BEGIN:VCALENDAR
VERSION:2.0
PRODID:-//AiDiA – Afrodeutscher Startup Pitch - ECPv6.15.20//NONSGML v1.0//EN
CALSCALE:GREGORIAN
METHOD:PUBLISH
X-WR-CALNAME:AiDiA – Afrodeutscher Startup Pitch
X-ORIGINAL-URL:https://aidia-pitch.de/en
X-WR-CALDESC:Events for AiDiA – Afrodeutscher Startup Pitch
REFRESH-INTERVAL;VALUE=DURATION:PT1H
X-Robots-Tag:noindex
X-PUBLISHED-TTL:PT1H
BEGIN:VTIMEZONE
TZID:Europe/Berlin
BEGIN:DAYLIGHT
TZOFFSETFROM:+0100
TZOFFSETTO:+0200
TZNAME:CEST
DTSTART:20240331T010000
END:DAYLIGHT
BEGIN:STANDARD
TZOFFSETFROM:+0200
TZOFFSETTO:+0100
TZNAME:CET
DTSTART:20241027T010000
END:STANDARD
BEGIN:DAYLIGHT
TZOFFSETFROM:+0100
TZOFFSETTO:+0200
TZNAME:CEST
DTSTART:20250330T010000
END:DAYLIGHT
BEGIN:STANDARD
TZOFFSETFROM:+0200
TZOFFSETTO:+0100
TZNAME:CET
DTSTART:20251026T010000
END:STANDARD
BEGIN:DAYLIGHT
TZOFFSETFROM:+0100
TZOFFSETTO:+0200
TZNAME:CEST
DTSTART:20260329T010000
END:DAYLIGHT
BEGIN:STANDARD
TZOFFSETFROM:+0200
TZOFFSETTO:+0100
TZNAME:CET
DTSTART:20261025T010000
END:STANDARD
END:VTIMEZONE
BEGIN:VEVENT
DTSTART;TZID=Europe/Berlin:20250906T143000
DTEND;TZID=Europe/Berlin:20250906T230000
DTSTAMP:20260421T144041
CREATED:20250725T101959Z
LAST-MODIFIED:20251017T120413Z
UID:10626-1757169000-1757199600@aidia-pitch.de
SUMMARY:AiDiA x BOLDLY – Culture Markt
DESCRIPTION:Willkommen zum Culture Markt\, der die besten Fundstücke und Vibes nach Hamburg bringt!\nAiDiA und BOLDLY laden ein zum ersten gemeinsamen Culture Markt – ein kreativer Community-Treffpunkt zwischen Secondhand-Schätzen\, kulinarischen Highlights\, Live-Musik und inspirierenden Begegnungen. \nHier geht es nicht nur ums Stöbern\, sondern ums Feiern von Kultur\, Kreativität und Community-Spirit. Ob du auf der Suche nach Vintage-Pieces\, Streetwear\, Handmade Designs oder einfach nach guter Musik und leckerem Essen bist – du bist hier genau richtig. \nDas erwartet dich: \n🛍️ Secondhand & Stände von lokalen Brands\, Creators und Artists🎶 Live-Musik\, DJ-Sets und gute Vibes🥘 Streetfood & Drinks von der Community für die Community🎤 Talks\, Workshops & Impulse für Kopf & Herz🫱🏾‍🫲🏿 Empowerment\, Austausch und neue Begegnungen \nBring deine Freund:innen mit\, entdecke Neues und lass uns gemeinsam den Spätsommer feiern – voller Kultur\, Vielfalt und Kreativität. \n🖋️ Du möchtest Partner werden? Dann schreib uns an: martina@aidia-pitch.de – ob als Sponsor\, mit einer Performance\, Food oder Impuls. Wir freuen uns auf deine Idee! \n			\n				\n				\n				\n				\n				📍 Halle 4i im Oberhafen
URL:https://aidia-pitch.de/en/event/aidia-x-boldly-culture-markt
LOCATION:Lukulule e.V.\, Stockmeyerstraße 41 (Halle 4i)\, Hamburg\, Hamburg\, 20457\, Germany
CATEGORIES:Special Event
ATTACH;FMTTYPE=image/jpeg:https://aidia-pitch.de/wp-content/uploads/2025/07/aidia-pitch_culture-markt_header-visual-2.jpg
END:VEVENT
END:VCALENDAR