BEGIN:VCALENDAR
VERSION:2.0
PRODID:-//AiDiA – Afrodeutscher Startup Pitch - ECPv6.15.20//NONSGML v1.0//EN
CALSCALE:GREGORIAN
METHOD:PUBLISH
X-WR-CALNAME:AiDiA – Afrodeutscher Startup Pitch
X-ORIGINAL-URL:https://aidia-pitch.de/en
X-WR-CALDESC:Events for AiDiA – Afrodeutscher Startup Pitch
REFRESH-INTERVAL;VALUE=DURATION:PT1H
X-Robots-Tag:noindex
X-PUBLISHED-TTL:PT1H
BEGIN:VTIMEZONE
TZID:Europe/Berlin
BEGIN:DAYLIGHT
TZOFFSETFROM:+0100
TZOFFSETTO:+0200
TZNAME:CEST
DTSTART:20250330T010000
END:DAYLIGHT
BEGIN:STANDARD
TZOFFSETFROM:+0200
TZOFFSETTO:+0100
TZNAME:CET
DTSTART:20251026T010000
END:STANDARD
BEGIN:DAYLIGHT
TZOFFSETFROM:+0100
TZOFFSETTO:+0200
TZNAME:CEST
DTSTART:20260329T010000
END:DAYLIGHT
BEGIN:STANDARD
TZOFFSETFROM:+0200
TZOFFSETTO:+0100
TZNAME:CET
DTSTART:20261025T010000
END:STANDARD
BEGIN:DAYLIGHT
TZOFFSETFROM:+0100
TZOFFSETTO:+0200
TZNAME:CEST
DTSTART:20270328T010000
END:DAYLIGHT
BEGIN:STANDARD
TZOFFSETFROM:+0200
TZOFFSETTO:+0100
TZNAME:CET
DTSTART:20271031T010000
END:STANDARD
END:VTIMEZONE
BEGIN:VEVENT
DTSTART;TZID=Europe/Berlin:20260205T180000
DTEND;TZID=Europe/Berlin:20260205T220000
DTSTAMP:20260424T102548
CREATED:20250528T094120Z
LAST-MODIFIED:20260203T132642Z
UID:10168-1770314400-1770328800@aidia-pitch.de
SUMMARY:THRST. | Business Angel Talk
DESCRIPTION:Business Angel Talk für Startups\nFinanzierung verstehen\, Business Angels überzeugen\, Startup skalieren \nDu hast ein innovatives oder skalierbares Startup – aber willst verstehen\, wie Business Angels investieren\, bis zu welchen Beträgen sie sich engagieren\, wie du sie überzeugst und welchen Social Impact du erzielen kannst? \nIn diesem Business Angel Talk erhältst du einen praxisnahen Einblick in die frühe Startup-Finanzierung:Business Angels investieren in der Regel zwischen 10.000 € und 250.000 € pro Investor\, in Angel-Gruppen oder Syndikaten auch höhere Beträge. Neben Kapital bringen sie Erfahrung\, unternehmerisches Know-how und wertvolle Netzwerke ein. \nGemeinsam mit erfahrenen Business Angels und Social Impact Investoren sprechen wir darüber: \n\nwie du dein Startup investorenfit aufstellst\nwie ein überzeugendes Pitch Deck aus Angel-Sicht aufgebaut ist\nwie du deine Finanzplanung realistisch und investierbar strukturierst\nworauf Investoren bei Team\, Geschäftsmodell\, Skalierung und Impact achten\nwie du Investoren gezielt ansprichst\, Vertrauen aufbaust und gleichzeitig gesellschaftliche Wirkung erzielst\n\nAußerdem erfährst du\, wie man selbst Business Angel werden kann – also Kapital\, Know-how und Netzwerk in andere Startups investiert\, welche Voraussetzungen nötig sind und welche Strategien für erfolgreiches Angel Investing wichtig sind. \nAnhand von realen Beispielen\, die vor Ort genannt werden\, siehst du\, wie Startups erfolgreich mit Business Angels und Social Impact Investoren zusammenarbeiten\, Impact erzeugen und ihr Business strategisch weiterentwickeln. \nDer Talk richtet sich an Gründer:innen und Startup-Teams\, die Kapital aufnehmen\, ihr Geschäftsmodell schärfen\, gesellschaftlichen Impact erzeugen und ihr Unternehmen auf die nächste Stufe bringen wollen. \n			\n				Anmelden
URL:https://aidia-pitch.de/en/event/thrst-05-02-2026
LOCATION:VRHQ – Virtual Reality Headquarters\, Am Sandtorkai 27-28\, Hamburg\, Hamburg\, 20457\, Germany
CATEGORIES:THRST.
ATTACH;FMTTYPE=image/jpeg:https://aidia-pitch.de/wp-content/uploads/2025/06/THRST_Banners_Website_3.jpg
END:VEVENT
END:VCALENDAR