BEGIN:VCALENDAR
VERSION:2.0
PRODID:-//AiDiA – Afrodeutscher Startup Pitch - ECPv6.15.20//NONSGML v1.0//EN
CALSCALE:GREGORIAN
METHOD:PUBLISH
X-WR-CALNAME:AiDiA – Afrodeutscher Startup Pitch
X-ORIGINAL-URL:https://aidia-pitch.de/en
X-WR-CALDESC:Events for AiDiA – Afrodeutscher Startup Pitch
REFRESH-INTERVAL;VALUE=DURATION:PT1H
X-Robots-Tag:noindex
X-PUBLISHED-TTL:PT1H
BEGIN:VTIMEZONE
TZID:Europe/Berlin
BEGIN:DAYLIGHT
TZOFFSETFROM:+0100
TZOFFSETTO:+0200
TZNAME:CEST
DTSTART:20250330T010000
END:DAYLIGHT
BEGIN:STANDARD
TZOFFSETFROM:+0200
TZOFFSETTO:+0100
TZNAME:CET
DTSTART:20251026T010000
END:STANDARD
BEGIN:DAYLIGHT
TZOFFSETFROM:+0100
TZOFFSETTO:+0200
TZNAME:CEST
DTSTART:20260329T010000
END:DAYLIGHT
BEGIN:STANDARD
TZOFFSETFROM:+0200
TZOFFSETTO:+0100
TZNAME:CET
DTSTART:20261025T010000
END:STANDARD
BEGIN:DAYLIGHT
TZOFFSETFROM:+0100
TZOFFSETTO:+0200
TZNAME:CEST
DTSTART:20270328T010000
END:DAYLIGHT
BEGIN:STANDARD
TZOFFSETFROM:+0200
TZOFFSETTO:+0100
TZNAME:CET
DTSTART:20271031T010000
END:STANDARD
END:VTIMEZONE
BEGIN:VEVENT
DTSTART;TZID=Europe/Berlin:20260108T180000
DTEND;TZID=Europe/Berlin:20260108T220000
DTSTAMP:20260420T154736
CREATED:20250528T093914Z
LAST-MODIFIED:20260108T142533Z
UID:10166-1767895200-1767909600@aidia-pitch.de
SUMMARY:THRST. | Selfcare
DESCRIPTION:Abgesagt\nDein Erfolg im Business beginnt mit dir und mit deiner ganzheitlichen Gesundheit\nIn einer Welt\, in der Leistung\, Termine und ständige Erreichbarkeit zum Alltag gehören\, vergessen viele Unternehmerinnen\, Gründerinnen und Berufstätige\, worauf echter Erfolg wirklich aufbaut: auf der eigenen Gesundheit. Oft wird Business-Erfolg an Zahlen\, Zielen und Ergebnissen gemessen. Doch all das ist nur nachhaltig möglich\, wenn Körper\, Geist und Seele im Einklang sind. \nDieses Event richtet den Blick auf das\, was viele im hektischen Arbeitsalltag vernachlässigen: die eigene Balance. Wir möchten ein Bewusstsein dafür schaffen\, wie wichtig es ist\, auf sich selbst zu achten – besonders dann\, wenn man Großes erreichen möchte. Denn wer im Business Gas geben will\, sollte auch sicherstellen\, dass der Körper und der Geist bereit dafür sind. \nAn diesem Tag sprechen wir darüber\, wie du deine Leistungsfähigkeit ganzheitlich stärken kannst\, ohne dabei deine Energie zu verlieren. Du erfährst\, wie du gesunde Routinen in deinen Alltag integrierst\, Stress besser managst und langfristig fokussiert bleibst – auch in intensiven Phasen. Denn Erfolg bedeutet nicht\, immer mehr zu tun\, sondern das Richtige zu tun – mit Klarheit\, Energie und innerer Stärke. \nDieses Event ist eine Einladung\, innezuhalten\, sich neu auszurichten und den Zusammenhang zwischen Gesundheit\, Mindset und Erfolg neu zu verstehen. Es geht darum\, dein Fundament zu stärken – damit du nicht nur erfolgreich bist\, sondern dich dabei auch wirklich gut fühlst. \n			\n			\n				\n				\n				\n				\n			\n				\n				\n				\n				\n				\n				\n				Jetzt anmelden
URL:https://aidia-pitch.de/en/event/thrst-08-01-2026
LOCATION:VRHQ – Virtual Reality Headquarters\, Am Sandtorkai 27-28\, Hamburg\, Hamburg\, 20457\, Germany
CATEGORIES:THRST.
ATTACH;FMTTYPE=image/jpeg:https://aidia-pitch.de/wp-content/uploads/2025/06/THRST_Banners_Website_6.jpg
END:VEVENT
END:VCALENDAR