BEGIN:VCALENDAR
VERSION:2.0
PRODID:-//AiDiA – Afrodeutscher Startup Pitch - ECPv6.15.20//NONSGML v1.0//EN
CALSCALE:GREGORIAN
METHOD:PUBLISH
X-WR-CALNAME:AiDiA – Afrodeutscher Startup Pitch
X-ORIGINAL-URL:https://aidia-pitch.de
X-WR-CALDESC:Veranstaltungen für AiDiA – Afrodeutscher Startup Pitch
REFRESH-INTERVAL;VALUE=DURATION:PT1H
X-Robots-Tag:noindex
X-PUBLISHED-TTL:PT1H
BEGIN:VTIMEZONE
TZID:Europe/Berlin
BEGIN:DAYLIGHT
TZOFFSETFROM:+0100
TZOFFSETTO:+0200
TZNAME:CEST
DTSTART:20230326T010000
END:DAYLIGHT
BEGIN:STANDARD
TZOFFSETFROM:+0200
TZOFFSETTO:+0100
TZNAME:CET
DTSTART:20231029T010000
END:STANDARD
BEGIN:DAYLIGHT
TZOFFSETFROM:+0100
TZOFFSETTO:+0200
TZNAME:CEST
DTSTART:20240331T010000
END:DAYLIGHT
BEGIN:STANDARD
TZOFFSETFROM:+0200
TZOFFSETTO:+0100
TZNAME:CET
DTSTART:20241027T010000
END:STANDARD
BEGIN:DAYLIGHT
TZOFFSETFROM:+0100
TZOFFSETTO:+0200
TZNAME:CEST
DTSTART:20250330T010000
END:DAYLIGHT
BEGIN:STANDARD
TZOFFSETFROM:+0200
TZOFFSETTO:+0100
TZNAME:CET
DTSTART:20251026T010000
END:STANDARD
END:VTIMEZONE
BEGIN:VEVENT
DTSTART;TZID=Europe/Berlin:20240902T173000
DTEND;TZID=Europe/Berlin:20240902T190000
DTSTAMP:20260424T130914
CREATED:20240810T090206Z
LAST-MODIFIED:20240828T062013Z
UID:8831-1725298200-1725303600@aidia-pitch.de
SUMMARY:AiDiA x Gateway – Empower & Connect
DESCRIPTION:Am Montag\, den 2. September\, erwartet dich ein bereicherndes Event\, das sich auf Unternehmertum in der Diaspora konzentriert\, mit besonderem Fokus auf die afrikanische Diaspora. \nDas Event „Empower & Connect: Diaspora Entrepreneurship in NRW“\, organisiert von AiDiA in Zusammenarbeit mit Gateway TH Köln\, richtet sich an afrodiasporische und migrantische Gründer:innen sowie Gründungsinteressierte in Nordrhein-Westfalen. Es bietet eine einzigartige Plattform\, um wertvolle Erfahrungen\, Wissen und Strategien auszutauschen und die unternehmerischen Ambitionen der Diaspora in NRW hervorzuheben. \nFreue dich auf spannende Startup-Kurzpräsentationen\, eine aufschlussreiche Paneldiskussion über die Chancen und Möglichkeiten des Gründens in NRW sowie inspirierende Beiträge von erfahrenen Gründer:innen. Mit dabei sind: Kanime Hinyemata (Co-Rents)\, Ben Etuk (ETUK)\, Andy Kwakye-Yeboah (Quilar)\, Yannick JIongo (My Afro City) und Augustina Busiah (Ohemaa Green Housing). Der Abend endet mit einem informellen Ausklang bei Snacks und Getränken\, der die perfekte Gelegenheit zum Networking und zum Knüpfen neuer Kontakte bietet. \nNutze dieses Event\, um dich inspirieren zu lassen\, wertvolle Kontakte zu knüpfen und gemeinsam mit anderen Gründer:innen in NRW zu wachsen. \nVeranstaltungsort: Weyertal 109\, 50931 Köln \n			\n				\n				\n				\n				\n				Speaker\n			\n			\n				\n				\n				\n				\n			\n				\n				\n				\n				\n				\n				\n				\n				\n				\n				\n				\n				\n				\n					\n			     \n                \n                    Augustina Bruwaah Busiah \nOhemaa Green Housing  \n                \n		    \n				\n			\n			\n				\n				\n				\n				\n				\n				\n				\n				\n				\n				\n				\n				\n					\n			     \n                \n                    Andy Kwakye-Yeboah Quilar; Nicht dein Guru \n                \n		    \n				\n			\n			\n				\n				\n				\n				\n				\n				\n				\n				\n				\n				\n				\n				\n					\n			     \n                \n                    Ben Etuk ETUK \n                \n		    \n				\n			\n			\n				\n				\n				\n				\n			\n				\n				\n				\n				\n				\n				\n				\n				\n				\n				\n				\n				\n				\n					\n			     \n                \n                    Kanime Hinyemata Co-Rents \n                \n		    \n				\n			\n			\n				\n				\n				\n				\n				\n				\n				\n				\n				\n				\n				\n				\n					\n			     \n                \n                    Yannick JIongo My Afro City \n                \n		    \n				\n			\n			\n				\n				\n				\n				\n				\n			\n				\n				\n				\n				\n			\n				\n				\n				\n				\n				\n				\n				\n				\n				\n				\n				POWERED BY:
URL:https://aidia-pitch.de/event/pre-week-02-09-24
LOCATION:Köln
CATEGORIES:AiDiA Pitch 2024
ATTACH;FMTTYPE=image/webp:https://aidia-pitch.de/wp-content/uploads/2024/08/aidia-pitch_pre-week-gateway_web-banner.webp
END:VEVENT
END:VCALENDAR