BEGIN:VCALENDAR
VERSION:2.0
PRODID:-//AiDiA – Afrodeutscher Startup Pitch - ECPv6.15.20//NONSGML v1.0//EN
CALSCALE:GREGORIAN
METHOD:PUBLISH
X-WR-CALNAME:AiDiA – Afrodeutscher Startup Pitch
X-ORIGINAL-URL:https://aidia-pitch.de
X-WR-CALDESC:Veranstaltungen für AiDiA – Afrodeutscher Startup Pitch
REFRESH-INTERVAL;VALUE=DURATION:PT1H
X-Robots-Tag:noindex
X-PUBLISHED-TTL:PT1H
BEGIN:VTIMEZONE
TZID:Europe/Berlin
BEGIN:DAYLIGHT
TZOFFSETFROM:+0100
TZOFFSETTO:+0200
TZNAME:CEST
DTSTART:20230326T010000
END:DAYLIGHT
BEGIN:STANDARD
TZOFFSETFROM:+0200
TZOFFSETTO:+0100
TZNAME:CET
DTSTART:20231029T010000
END:STANDARD
BEGIN:DAYLIGHT
TZOFFSETFROM:+0100
TZOFFSETTO:+0200
TZNAME:CEST
DTSTART:20240331T010000
END:DAYLIGHT
BEGIN:STANDARD
TZOFFSETFROM:+0200
TZOFFSETTO:+0100
TZNAME:CET
DTSTART:20241027T010000
END:STANDARD
BEGIN:DAYLIGHT
TZOFFSETFROM:+0100
TZOFFSETTO:+0200
TZNAME:CEST
DTSTART:20250330T010000
END:DAYLIGHT
BEGIN:STANDARD
TZOFFSETFROM:+0200
TZOFFSETTO:+0100
TZNAME:CET
DTSTART:20251026T010000
END:STANDARD
END:VTIMEZONE
BEGIN:VEVENT
DTSTART;TZID=Europe/Berlin:20240831T140000
DTEND;TZID=Europe/Berlin:20240831T220000
DTSTAMP:20260424T131013
CREATED:20240818T062644Z
LAST-MODIFIED:20240824T063525Z
UID:8881-1725112800-1725141600@aidia-pitch.de
SUMMARY:AiDiA x Afro Haus – Afro Link Up
DESCRIPTION:Bubbles & Braai Edition: Tauche ein in die lebendige Kultur Südafrikas – mitten in Berlin! \nAm 31. August laden wir dich zu einem unvergesslichen Bubbles & Braai Erlebnis ein. Lass dich von einem authentischen Braai-Menü verwöhnen und genieße exklusive südafrikanische Weine direkt aus den renommierten Weingütern Kapstadts. \nFür Golfbegeisterte bietet EvoGolf Berlin ein erstklassiges Golfsimulationserlebnis. Und natürlich gibt es beste südafrikanische Beats\, präsentiert von den DJs Metabolism\, Brizla und Nel. \nUm auf Nummer Sicher zu gehen\, dass du auf jeden Fall dabei sein kannst\, sicher dir gerne im Voraus ein Ticket über eventbrite. Komm ansonsten vorbei\, kauf dir dein Ticket an der Tür und genieße ein kostenloses Glas Wein. Wir können es kaum erwarten\, mit dir zu feiern! \nVeranstaltungsort: Kurfürstenstraße 31-32\, 10785 Berlin \nPOWERED BY:
URL:https://aidia-pitch.de/event/pre-week-31-08-24-2
LOCATION:Berlin
CATEGORIES:AiDiA Pitch 2024
ATTACH;FMTTYPE=image/webp:https://aidia-pitch.de/wp-content/uploads/2024/08/aidia-pitch_pre-week-b-b_web-banner.webp
END:VEVENT
END:VCALENDAR